BEGIN:VCALENDAR
VERSION:2.0
PRODID:-//Fairfield Sportsmen's Association - ECPv6.15.18//NONSGML v1.0//EN
CALSCALE:GREGORIAN
METHOD:PUBLISH
X-WR-CALNAME:Fairfield Sportsmen's Association
X-ORIGINAL-URL:https://www.fairfieldsportsmen.com
X-WR-CALDESC:Events for Fairfield Sportsmen's Association
REFRESH-INTERVAL;VALUE=DURATION:PT1H
X-Robots-Tag:noindex
X-PUBLISHED-TTL:PT1H
BEGIN:VTIMEZONE
TZID:America/Detroit
BEGIN:DAYLIGHT
TZOFFSETFROM:-0500
TZOFFSETTO:-0400
TZNAME:EDT
DTSTART:20250309T070000
END:DAYLIGHT
BEGIN:STANDARD
TZOFFSETFROM:-0400
TZOFFSETTO:-0500
TZNAME:EST
DTSTART:20251102T060000
END:STANDARD
BEGIN:DAYLIGHT
TZOFFSETFROM:-0500
TZOFFSETTO:-0400
TZNAME:EDT
DTSTART:20260308T070000
END:DAYLIGHT
BEGIN:STANDARD
TZOFFSETFROM:-0400
TZOFFSETTO:-0500
TZNAME:EST
DTSTART:20261101T060000
END:STANDARD
BEGIN:DAYLIGHT
TZOFFSETFROM:-0500
TZOFFSETTO:-0400
TZNAME:EDT
DTSTART:20270314T070000
END:DAYLIGHT
BEGIN:STANDARD
TZOFFSETFROM:-0400
TZOFFSETTO:-0500
TZNAME:EST
DTSTART:20271107T060000
END:STANDARD
END:VTIMEZONE
BEGIN:VEVENT
DTSTART;TZID=America/Detroit:20260412T080000
DTEND;TZID=America/Detroit:20260412T170000
DTSTAMP:20260419T094358
CREATED:20260222T203307Z
LAST-MODIFIED:20260222T203307Z
UID:25387-1775980800-1776013200@www.fairfieldsportsmen.com
SUMMARY:Airgun Rifle Field Target Fun Match. April 12th 2026 9:00am – 5:00pm
DESCRIPTION:April 12th 2026 8:00am – 5:00pm \nAirgun Rifle Field Target Fun Match.  \n10 lanes of steel knock down targets with reset strings in the first bowl. \nThree targets per lane. Near\, Middle\, Far. Targets range from 3/8” KZ to a 1 ½” KZ and distances range between 10 to 55 yards with KZ sizes limiting how far the target can be on conjunction with KZ size. \nTwo shots per target for a potential 60 points. \nCourse will be shot in the woods. \nTypical Gear: Air Rifle with 20 FPE MAX & shooting from a bucket or stool & from a bi-pod or mono-pod\, or shooting from Bum Bag & off your knee. \nShoot the course with a different gun / setup or pistol. You can keep your own score and just have fun and knock off the rust. You can use this fun match to check your gear and confirm you data. Have fun!! \nSign in starts at 10:30am\, sight in range will open at 9:00am\, shooters meeting at 10:15am\, match starts around 10:30am or sooner. \nEvent Fee is $15.00 \nHunter Class: ( PCP Or Springer ) Air Rifle with 20 FPE Max and shooting from bucket or stool and bipod or mono-pod shooting sticks. 16X Magnification on scope. \nWFTF Class: ( PCP Or Springer ) Air Rifle with 12 FPE Max\, and shooting from a bum bag and off of your knee. \nOpen Class: ( PCP Or Springer ) Air Rifle with 12 FPE Max\, and shooting from a bum bag and off of your knee. \nUnlimited Class: ( PCP Or Springer ) Air Rifle with 20 FPE Max and shooting from bucket or stool and bipod or mono-pod shooting sticks. No restrictions on forced lanes. \nField Target
URL:https://www.fairfieldsportsmen.com/event/airgun-rifle-field-target-fun-match-april-12th-2026-900am-500pm/
LOCATION:Archery 3-D
CATEGORIES:Field Target Air Rifle
END:VEVENT
BEGIN:VEVENT
DTSTART;TZID=America/Detroit:20260411T080000
DTEND;TZID=America/Detroit:20260411T170000
DTSTAMP:20260419T094358
CREATED:20260222T211514Z
LAST-MODIFIED:20260222T211514Z
UID:25408-1775894400-1775926800@www.fairfieldsportsmen.com
SUMMARY:100 Yard Benchrest With Diabolo Mass Produced Pellets For The main Event.
DESCRIPTION:Sight in starts at 9:00am \nSafety Meeting starts at 10:30am \nCompetition starts at 11:00am \nASA Sanctioned 100 Yard Benchrest \nDistance is 100 yards you will be shooting. \nThree cards with 25 targets each & one competitive shot at each target only. \nThere are 5 sighters target that you can shoot as many times as you want to get your wind reads for your competitive shots. \nThere is 30 minutes for each card to be shot. \nWe allow tethering to the airgun while on the bench. \nUp to a .35 caliber mass produced diabolo style pellet is allowed. \nAll calibers will be scored with a .357 plug & if the plug touches the next highest score ring that score will be awarded. The X’s will be used as a tie breaker with the total score. \nWind Flags are allowed on the range.
URL:https://www.fairfieldsportsmen.com/event/100-yard-benchrest-with-diabolo-mass-produced-pellets-for-the-main-event/
LOCATION:Rifle Range
CATEGORIES:Bench Rest Air Rifle
END:VEVENT
END:VCALENDAR