BEGIN:VCALENDAR
VERSION:2.0
PRODID:-//Fairfield Sportsmen's Association - ECPv6.15.18//NONSGML v1.0//EN
CALSCALE:GREGORIAN
METHOD:PUBLISH
X-WR-CALNAME:Fairfield Sportsmen's Association
X-ORIGINAL-URL:https://www.fairfieldsportsmen.com
X-WR-CALDESC:Events for Fairfield Sportsmen's Association
REFRESH-INTERVAL;VALUE=DURATION:PT1H
X-Robots-Tag:noindex
X-PUBLISHED-TTL:PT1H
BEGIN:VTIMEZONE
TZID:America/Detroit
BEGIN:DAYLIGHT
TZOFFSETFROM:-0500
TZOFFSETTO:-0400
TZNAME:EDT
DTSTART:20250309T070000
END:DAYLIGHT
BEGIN:STANDARD
TZOFFSETFROM:-0400
TZOFFSETTO:-0500
TZNAME:EST
DTSTART:20251102T060000
END:STANDARD
BEGIN:DAYLIGHT
TZOFFSETFROM:-0500
TZOFFSETTO:-0400
TZNAME:EDT
DTSTART:20260308T070000
END:DAYLIGHT
BEGIN:STANDARD
TZOFFSETFROM:-0400
TZOFFSETTO:-0500
TZNAME:EST
DTSTART:20261101T060000
END:STANDARD
BEGIN:DAYLIGHT
TZOFFSETFROM:-0500
TZOFFSETTO:-0400
TZNAME:EDT
DTSTART:20270314T070000
END:DAYLIGHT
BEGIN:STANDARD
TZOFFSETFROM:-0400
TZOFFSETTO:-0500
TZNAME:EST
DTSTART:20271107T060000
END:STANDARD
END:VTIMEZONE
BEGIN:VEVENT
DTSTART;TZID=America/Detroit:20261007T113000
DTEND;TZID=America/Detroit:20261007T140000
DTSTAMP:20260419T193702
CREATED:20260419T195825Z
LAST-MODIFIED:20260419T195825Z
UID:26512-1791372600-1791381600@www.fairfieldsportsmen.com
SUMMARY:International Trap Singles Practice
DESCRIPTION:
URL:https://www.fairfieldsportsmen.com/event/international-trap-singles-practice-7/2026-10-07/
CATEGORIES:International
END:VEVENT
BEGIN:VEVENT
DTSTART;TZID=America/Detroit:20261014T113000
DTEND;TZID=America/Detroit:20261014T140000
DTSTAMP:20260419T193702
CREATED:20260419T195825Z
LAST-MODIFIED:20260419T195825Z
UID:26513-1791977400-1791986400@www.fairfieldsportsmen.com
SUMMARY:International Trap Singles Practice
DESCRIPTION:
URL:https://www.fairfieldsportsmen.com/event/international-trap-singles-practice-7/2026-10-14/
CATEGORIES:International
END:VEVENT
BEGIN:VEVENT
DTSTART;TZID=America/Detroit:20261021T113000
DTEND;TZID=America/Detroit:20261021T140000
DTSTAMP:20260419T193702
CREATED:20260419T195825Z
LAST-MODIFIED:20260419T195825Z
UID:26514-1792582200-1792591200@www.fairfieldsportsmen.com
SUMMARY:International Trap Singles Practice
DESCRIPTION:
URL:https://www.fairfieldsportsmen.com/event/international-trap-singles-practice-7/2026-10-21/
CATEGORIES:International
END:VEVENT
BEGIN:VEVENT
DTSTART;TZID=America/Detroit:20261028T113000
DTEND;TZID=America/Detroit:20261028T140000
DTSTAMP:20260419T193702
CREATED:20260419T195825Z
LAST-MODIFIED:20260419T195825Z
UID:26515-1793187000-1793196000@www.fairfieldsportsmen.com
SUMMARY:International Trap Singles Practice
DESCRIPTION:
URL:https://www.fairfieldsportsmen.com/event/international-trap-singles-practice-7/2026-10-28/
CATEGORIES:International
END:VEVENT
BEGIN:VEVENT
DTSTART;TZID=America/Detroit:20261104T113000
DTEND;TZID=America/Detroit:20261104T140000
DTSTAMP:20260419T193702
CREATED:20260419T195825Z
LAST-MODIFIED:20260419T195825Z
UID:26516-1793791800-1793800800@www.fairfieldsportsmen.com
SUMMARY:International Trap Singles Practice
DESCRIPTION:
URL:https://www.fairfieldsportsmen.com/event/international-trap-singles-practice-7/2026-11-04/
CATEGORIES:International
END:VEVENT
BEGIN:VEVENT
DTSTART;TZID=America/Detroit:20261111T113000
DTEND;TZID=America/Detroit:20261111T140000
DTSTAMP:20260419T193702
CREATED:20260419T195825Z
LAST-MODIFIED:20260419T195825Z
UID:26517-1794396600-1794405600@www.fairfieldsportsmen.com
SUMMARY:International Trap Singles Practice
DESCRIPTION:
URL:https://www.fairfieldsportsmen.com/event/international-trap-singles-practice-7/2026-11-11/
CATEGORIES:International
END:VEVENT
BEGIN:VEVENT
DTSTART;TZID=America/Detroit:20261118T113000
DTEND;TZID=America/Detroit:20261118T140000
DTSTAMP:20260419T193702
CREATED:20260419T195825Z
LAST-MODIFIED:20260419T195825Z
UID:26518-1795001400-1795010400@www.fairfieldsportsmen.com
SUMMARY:International Trap Singles Practice
DESCRIPTION:
URL:https://www.fairfieldsportsmen.com/event/international-trap-singles-practice-7/2026-11-18/
CATEGORIES:International
END:VEVENT
BEGIN:VEVENT
DTSTART;TZID=America/Detroit:20261125T113000
DTEND;TZID=America/Detroit:20261125T140000
DTSTAMP:20260419T193702
CREATED:20260419T195825Z
LAST-MODIFIED:20260419T195825Z
UID:26519-1795606200-1795615200@www.fairfieldsportsmen.com
SUMMARY:International Trap Singles Practice
DESCRIPTION:
URL:https://www.fairfieldsportsmen.com/event/international-trap-singles-practice-7/2026-11-25/
CATEGORIES:International
END:VEVENT
END:VCALENDAR