BEGIN:VCALENDAR
VERSION:2.0
PRODID:-//Fairfield Sportsmen's Association - ECPv6.15.18//NONSGML v1.0//EN
CALSCALE:GREGORIAN
METHOD:PUBLISH
X-ORIGINAL-URL:https://www.fairfieldsportsmen.com
X-WR-CALDESC:Events for Fairfield Sportsmen's Association
REFRESH-INTERVAL;VALUE=DURATION:PT1H
X-Robots-Tag:noindex
X-PUBLISHED-TTL:PT1H
BEGIN:VTIMEZONE
TZID:America/Detroit
BEGIN:DAYLIGHT
TZOFFSETFROM:-0500
TZOFFSETTO:-0400
TZNAME:EDT
DTSTART:20250309T070000
END:DAYLIGHT
BEGIN:STANDARD
TZOFFSETFROM:-0400
TZOFFSETTO:-0500
TZNAME:EST
DTSTART:20251102T060000
END:STANDARD
BEGIN:DAYLIGHT
TZOFFSETFROM:-0500
TZOFFSETTO:-0400
TZNAME:EDT
DTSTART:20260308T070000
END:DAYLIGHT
BEGIN:STANDARD
TZOFFSETFROM:-0400
TZOFFSETTO:-0500
TZNAME:EST
DTSTART:20261101T060000
END:STANDARD
BEGIN:DAYLIGHT
TZOFFSETFROM:-0500
TZOFFSETTO:-0400
TZNAME:EDT
DTSTART:20270314T070000
END:DAYLIGHT
BEGIN:STANDARD
TZOFFSETFROM:-0400
TZOFFSETTO:-0500
TZNAME:EST
DTSTART:20271107T060000
END:STANDARD
END:VTIMEZONE
BEGIN:VEVENT
DTSTART;TZID=America/Detroit:20260613T080000
DTEND;TZID=America/Detroit:20260613T170000
DTSTAMP:20260419T212312
CREATED:20260419T195327Z
LAST-MODIFIED:20260419T195327Z
UID:26482-1781337600-1781370000@www.fairfieldsportsmen.com
SUMMARY:International Trap Singles Practice
DESCRIPTION:
URL:https://www.fairfieldsportsmen.com/event/international-trap-singles-practice-4/2026-06-13/
CATEGORIES:International
END:VEVENT
BEGIN:VEVENT
DTSTART;TZID=America/Detroit:20260620T080000
DTEND;TZID=America/Detroit:20260620T170000
DTSTAMP:20260419T212312
CREATED:20260419T195327Z
LAST-MODIFIED:20260419T195327Z
UID:26483-1781942400-1781974800@www.fairfieldsportsmen.com
SUMMARY:International Trap Singles Practice
DESCRIPTION:
URL:https://www.fairfieldsportsmen.com/event/international-trap-singles-practice-4/2026-06-20/
CATEGORIES:International
END:VEVENT
BEGIN:VEVENT
DTSTART;TZID=America/Detroit:20260627T080000
DTEND;TZID=America/Detroit:20260627T170000
DTSTAMP:20260419T212312
CREATED:20260419T195327Z
LAST-MODIFIED:20260419T195327Z
UID:26484-1782547200-1782579600@www.fairfieldsportsmen.com
SUMMARY:International Trap Singles Practice
DESCRIPTION:
URL:https://www.fairfieldsportsmen.com/event/international-trap-singles-practice-4/2026-06-27/
CATEGORIES:International
END:VEVENT
BEGIN:VEVENT
DTSTART;TZID=America/Detroit:20260704T080000
DTEND;TZID=America/Detroit:20260704T170000
DTSTAMP:20260419T212312
CREATED:20260419T195327Z
LAST-MODIFIED:20260419T195327Z
UID:26485-1783152000-1783184400@www.fairfieldsportsmen.com
SUMMARY:International Trap Singles Practice
DESCRIPTION:
URL:https://www.fairfieldsportsmen.com/event/international-trap-singles-practice-4/2026-07-04/
CATEGORIES:International
END:VEVENT
BEGIN:VEVENT
DTSTART;TZID=America/Detroit:20260711T080000
DTEND;TZID=America/Detroit:20260711T170000
DTSTAMP:20260419T212312
CREATED:20260419T195327Z
LAST-MODIFIED:20260419T195327Z
UID:26486-1783756800-1783789200@www.fairfieldsportsmen.com
SUMMARY:International Trap Singles Practice
DESCRIPTION:
URL:https://www.fairfieldsportsmen.com/event/international-trap-singles-practice-4/2026-07-11/
CATEGORIES:International
END:VEVENT
BEGIN:VEVENT
DTSTART;TZID=America/Detroit:20260718T080000
DTEND;TZID=America/Detroit:20260718T170000
DTSTAMP:20260419T212312
CREATED:20260419T195327Z
LAST-MODIFIED:20260419T195327Z
UID:26487-1784361600-1784394000@www.fairfieldsportsmen.com
SUMMARY:International Trap Singles Practice
DESCRIPTION:
URL:https://www.fairfieldsportsmen.com/event/international-trap-singles-practice-4/2026-07-18/
CATEGORIES:International
END:VEVENT
BEGIN:VEVENT
DTSTART;TZID=America/Detroit:20260725T080000
DTEND;TZID=America/Detroit:20260725T170000
DTSTAMP:20260419T212312
CREATED:20260419T195327Z
LAST-MODIFIED:20260419T195327Z
UID:26488-1784966400-1784998800@www.fairfieldsportsmen.com
SUMMARY:International Trap Singles Practice
DESCRIPTION:
URL:https://www.fairfieldsportsmen.com/event/international-trap-singles-practice-4/2026-07-25/
CATEGORIES:International
END:VEVENT
END:VCALENDAR