BEGIN:VCALENDAR
VERSION:2.0
PRODID:-//Fairfield Sportsmen's Association - ECPv6.15.18//NONSGML v1.0//EN
CALSCALE:GREGORIAN
METHOD:PUBLISH
X-ORIGINAL-URL:https://www.fairfieldsportsmen.com
X-WR-CALDESC:Events for Fairfield Sportsmen's Association
REFRESH-INTERVAL;VALUE=DURATION:PT1H
X-Robots-Tag:noindex
X-PUBLISHED-TTL:PT1H
BEGIN:VTIMEZONE
TZID:America/Detroit
BEGIN:DAYLIGHT
TZOFFSETFROM:-0500
TZOFFSETTO:-0400
TZNAME:EDT
DTSTART:20250309T070000
END:DAYLIGHT
BEGIN:STANDARD
TZOFFSETFROM:-0400
TZOFFSETTO:-0500
TZNAME:EST
DTSTART:20251102T060000
END:STANDARD
BEGIN:DAYLIGHT
TZOFFSETFROM:-0500
TZOFFSETTO:-0400
TZNAME:EDT
DTSTART:20260308T070000
END:DAYLIGHT
BEGIN:STANDARD
TZOFFSETFROM:-0400
TZOFFSETTO:-0500
TZNAME:EST
DTSTART:20261101T060000
END:STANDARD
BEGIN:DAYLIGHT
TZOFFSETFROM:-0500
TZOFFSETTO:-0400
TZNAME:EDT
DTSTART:20270314T070000
END:DAYLIGHT
BEGIN:STANDARD
TZOFFSETFROM:-0400
TZOFFSETTO:-0500
TZNAME:EST
DTSTART:20271107T060000
END:STANDARD
END:VTIMEZONE
BEGIN:VEVENT
DTSTART;TZID=America/Detroit:20260421T090000
DTEND;TZID=America/Detroit:20260421T103000
DTSTAMP:20260421T052018
CREATED:20260217T004857Z
LAST-MODIFIED:20260217T004857Z
UID:25340-1776762000-1776767400@www.fairfieldsportsmen.com
SUMMARY:Geezer Trap
DESCRIPTION:
URL:https://www.fairfieldsportsmen.com/event/geezer-trap-2/2026-04-21/
CATEGORIES:American
END:VEVENT
BEGIN:VEVENT
DTSTART;TZID=America/Detroit:20260428T090000
DTEND;TZID=America/Detroit:20260428T103000
DTSTAMP:20260421T052018
CREATED:20260217T004857Z
LAST-MODIFIED:20260217T004857Z
UID:25341-1777366800-1777372200@www.fairfieldsportsmen.com
SUMMARY:Geezer Trap
DESCRIPTION:
URL:https://www.fairfieldsportsmen.com/event/geezer-trap-2/2026-04-28/
CATEGORIES:American
END:VEVENT
BEGIN:VEVENT
DTSTART;TZID=America/Detroit:20260505T090000
DTEND;TZID=America/Detroit:20260505T103000
DTSTAMP:20260421T052018
CREATED:20260217T004857Z
LAST-MODIFIED:20260217T004857Z
UID:25342-1777971600-1777977000@www.fairfieldsportsmen.com
SUMMARY:Geezer Trap
DESCRIPTION:
URL:https://www.fairfieldsportsmen.com/event/geezer-trap-2/2026-05-05/
CATEGORIES:American
END:VEVENT
BEGIN:VEVENT
DTSTART;TZID=America/Detroit:20260512T090000
DTEND;TZID=America/Detroit:20260512T103000
DTSTAMP:20260421T052018
CREATED:20260217T004857Z
LAST-MODIFIED:20260217T004857Z
UID:25343-1778576400-1778581800@www.fairfieldsportsmen.com
SUMMARY:Geezer Trap
DESCRIPTION:
URL:https://www.fairfieldsportsmen.com/event/geezer-trap-2/2026-05-12/
CATEGORIES:American
END:VEVENT
BEGIN:VEVENT
DTSTART;TZID=America/Detroit:20260519T090000
DTEND;TZID=America/Detroit:20260519T103000
DTSTAMP:20260421T052018
CREATED:20260217T004857Z
LAST-MODIFIED:20260217T004857Z
UID:25344-1779181200-1779186600@www.fairfieldsportsmen.com
SUMMARY:Geezer Trap
DESCRIPTION:
URL:https://www.fairfieldsportsmen.com/event/geezer-trap-2/2026-05-19/
CATEGORIES:American
END:VEVENT
BEGIN:VEVENT
DTSTART;TZID=America/Detroit:20260526T090000
DTEND;TZID=America/Detroit:20260526T103000
DTSTAMP:20260421T052018
CREATED:20260217T004857Z
LAST-MODIFIED:20260217T004857Z
UID:25345-1779786000-1779791400@www.fairfieldsportsmen.com
SUMMARY:Geezer Trap
DESCRIPTION:
URL:https://www.fairfieldsportsmen.com/event/geezer-trap-2/2026-05-26/
CATEGORIES:American
END:VEVENT
BEGIN:VEVENT
DTSTART;TZID=America/Detroit:20260602T090000
DTEND;TZID=America/Detroit:20260602T103000
DTSTAMP:20260421T052018
CREATED:20260217T004857Z
LAST-MODIFIED:20260217T004857Z
UID:25346-1780390800-1780396200@www.fairfieldsportsmen.com
SUMMARY:Geezer Trap
DESCRIPTION:
URL:https://www.fairfieldsportsmen.com/event/geezer-trap-2/2026-06-02/
CATEGORIES:American
END:VEVENT
BEGIN:VEVENT
DTSTART;TZID=America/Detroit:20260609T090000
DTEND;TZID=America/Detroit:20260609T103000
DTSTAMP:20260421T052018
CREATED:20260217T004857Z
LAST-MODIFIED:20260217T004857Z
UID:25347-1780995600-1781001000@www.fairfieldsportsmen.com
SUMMARY:Geezer Trap
DESCRIPTION:
URL:https://www.fairfieldsportsmen.com/event/geezer-trap-2/2026-06-09/
CATEGORIES:American
END:VEVENT
BEGIN:VEVENT
DTSTART;TZID=America/Detroit:20260616T090000
DTEND;TZID=America/Detroit:20260616T103000
DTSTAMP:20260421T052018
CREATED:20260217T004857Z
LAST-MODIFIED:20260217T004857Z
UID:25348-1781600400-1781605800@www.fairfieldsportsmen.com
SUMMARY:Geezer Trap
DESCRIPTION:
URL:https://www.fairfieldsportsmen.com/event/geezer-trap-2/2026-06-16/
CATEGORIES:American
END:VEVENT
BEGIN:VEVENT
DTSTART;TZID=America/Detroit:20260623T090000
DTEND;TZID=America/Detroit:20260623T103000
DTSTAMP:20260421T052018
CREATED:20260217T004857Z
LAST-MODIFIED:20260217T004857Z
UID:25351-1782205200-1782210600@www.fairfieldsportsmen.com
SUMMARY:Geezer Trap
DESCRIPTION:
URL:https://www.fairfieldsportsmen.com/event/geezer-trap-2/2026-06-23/
CATEGORIES:American
END:VEVENT
BEGIN:VEVENT
DTSTART;TZID=America/Detroit:20260630T090000
DTEND;TZID=America/Detroit:20260630T103000
DTSTAMP:20260421T052018
CREATED:20260217T004857Z
LAST-MODIFIED:20260217T004857Z
UID:25352-1782810000-1782815400@www.fairfieldsportsmen.com
SUMMARY:Geezer Trap
DESCRIPTION:
URL:https://www.fairfieldsportsmen.com/event/geezer-trap-2/2026-06-30/
CATEGORIES:American
END:VEVENT
END:VCALENDAR