BEGIN:VCALENDAR
VERSION:2.0
PRODID:-//Fairfield Sportsmen's Association - ECPv6.15.18//NONSGML v1.0//EN
CALSCALE:GREGORIAN
METHOD:PUBLISH
X-WR-CALNAME:Fairfield Sportsmen's Association
X-ORIGINAL-URL:https://www.fairfieldsportsmen.com
X-WR-CALDESC:Events for Fairfield Sportsmen's Association
REFRESH-INTERVAL;VALUE=DURATION:PT1H
X-Robots-Tag:noindex
X-PUBLISHED-TTL:PT1H
BEGIN:VTIMEZONE
TZID:America/New_York
BEGIN:DAYLIGHT
TZOFFSETFROM:-0500
TZOFFSETTO:-0400
TZNAME:EDT
DTSTART:20250309T070000
END:DAYLIGHT
BEGIN:STANDARD
TZOFFSETFROM:-0400
TZOFFSETTO:-0500
TZNAME:EST
DTSTART:20251102T060000
END:STANDARD
BEGIN:DAYLIGHT
TZOFFSETFROM:-0500
TZOFFSETTO:-0400
TZNAME:EDT
DTSTART:20260308T070000
END:DAYLIGHT
BEGIN:STANDARD
TZOFFSETFROM:-0400
TZOFFSETTO:-0500
TZNAME:EST
DTSTART:20261101T060000
END:STANDARD
BEGIN:DAYLIGHT
TZOFFSETFROM:-0500
TZOFFSETTO:-0400
TZNAME:EDT
DTSTART:20270314T070000
END:DAYLIGHT
BEGIN:STANDARD
TZOFFSETFROM:-0400
TZOFFSETTO:-0500
TZNAME:EST
DTSTART:20271107T060000
END:STANDARD
BEGIN:DAYLIGHT
TZOFFSETFROM:-0500
TZOFFSETTO:-0400
TZNAME:EDT
DTSTART:20280312T070000
END:DAYLIGHT
BEGIN:STANDARD
TZOFFSETFROM:-0400
TZOFFSETTO:-0500
TZNAME:EST
DTSTART:20281105T060000
END:STANDARD
END:VTIMEZONE
BEGIN:VEVENT
DTSTART;TZID=America/New_York:20260510T120000
DTEND;TZID=America/New_York:20260510T133000
DTSTAMP:20260419T081821
CREATED:20190320T200731Z
LAST-MODIFIED:20190320T200731Z
UID:23547-1778414400-1778419800@www.fairfieldsportsmen.com
SUMMARY:FSA Safety Meeting
DESCRIPTION:
URL:https://www.fairfieldsportsmen.com/event/fsa-safety-meeting/2026-05-10/
LOCATION:Education Building
END:VEVENT
BEGIN:VEVENT
DTSTART;TZID=America/New_York:20260614T120000
DTEND;TZID=America/New_York:20260614T133000
DTSTAMP:20260419T081821
CREATED:20190320T200731Z
LAST-MODIFIED:20190320T200731Z
UID:23668-1781438400-1781443800@www.fairfieldsportsmen.com
SUMMARY:FSA Safety Meeting
DESCRIPTION:
URL:https://www.fairfieldsportsmen.com/event/fsa-safety-meeting/2026-06-14/
LOCATION:Education Building
END:VEVENT
BEGIN:VEVENT
DTSTART;TZID=America/New_York:20260712T120000
DTEND;TZID=America/New_York:20260712T133000
DTSTAMP:20260419T081821
CREATED:20190320T200731Z
LAST-MODIFIED:20190320T200731Z
UID:23776-1783857600-1783863000@www.fairfieldsportsmen.com
SUMMARY:FSA Safety Meeting
DESCRIPTION:
URL:https://www.fairfieldsportsmen.com/event/fsa-safety-meeting/2026-07-12/
LOCATION:Education Building
END:VEVENT
BEGIN:VEVENT
DTSTART;TZID=America/New_York:20260809T120000
DTEND;TZID=America/New_York:20260809T133000
DTSTAMP:20260419T081821
CREATED:20190320T200731Z
LAST-MODIFIED:20190320T200731Z
UID:23835-1786276800-1786282200@www.fairfieldsportsmen.com
SUMMARY:FSA Safety Meeting
DESCRIPTION:
URL:https://www.fairfieldsportsmen.com/event/fsa-safety-meeting/2026-08-09/
LOCATION:Education Building
END:VEVENT
BEGIN:VEVENT
DTSTART;TZID=America/New_York:20260913T120000
DTEND;TZID=America/New_York:20260913T133000
DTSTAMP:20260419T081821
CREATED:20190320T200731Z
LAST-MODIFIED:20190320T200731Z
UID:23946-1789300800-1789306200@www.fairfieldsportsmen.com
SUMMARY:FSA Safety Meeting
DESCRIPTION:
URL:https://www.fairfieldsportsmen.com/event/fsa-safety-meeting/2026-09-13/
LOCATION:Education Building
END:VEVENT
BEGIN:VEVENT
DTSTART;TZID=America/New_York:20261011T120000
DTEND;TZID=America/New_York:20261011T133000
DTSTAMP:20260419T081821
CREATED:20190320T200731Z
LAST-MODIFIED:20190320T200731Z
UID:24141-1791720000-1791725400@www.fairfieldsportsmen.com
SUMMARY:FSA Safety Meeting
DESCRIPTION:
URL:https://www.fairfieldsportsmen.com/event/fsa-safety-meeting/2026-10-11/
LOCATION:Education Building
END:VEVENT
BEGIN:VEVENT
DTSTART;TZID=America/New_York:20261108T120000
DTEND;TZID=America/New_York:20261108T133000
DTSTAMP:20260419T081821
CREATED:20190320T200731Z
LAST-MODIFIED:20190320T200731Z
UID:24209-1794139200-1794144600@www.fairfieldsportsmen.com
SUMMARY:FSA Safety Meeting
DESCRIPTION:
URL:https://www.fairfieldsportsmen.com/event/fsa-safety-meeting/2026-11-08/
LOCATION:Education Building
END:VEVENT
BEGIN:VEVENT
DTSTART;TZID=America/New_York:20261213T120000
DTEND;TZID=America/New_York:20261213T133000
DTSTAMP:20260419T081821
CREATED:20190320T200731Z
LAST-MODIFIED:20190320T200731Z
UID:24303-1797163200-1797168600@www.fairfieldsportsmen.com
SUMMARY:FSA Safety Meeting
DESCRIPTION:
URL:https://www.fairfieldsportsmen.com/event/fsa-safety-meeting/2026-12-13/
LOCATION:Education Building
END:VEVENT
BEGIN:VEVENT
DTSTART;TZID=America/New_York:20270110T120000
DTEND;TZID=America/New_York:20270110T133000
DTSTAMP:20260419T081821
CREATED:20190320T200731Z
LAST-MODIFIED:20190320T200731Z
UID:24471-1799582400-1799587800@www.fairfieldsportsmen.com
SUMMARY:FSA Safety Meeting
DESCRIPTION:
URL:https://www.fairfieldsportsmen.com/event/fsa-safety-meeting/2027-01-10/
LOCATION:Education Building
END:VEVENT
BEGIN:VEVENT
DTSTART;TZID=America/New_York:20270214T120000
DTEND;TZID=America/New_York:20270214T133000
DTSTAMP:20260419T081821
CREATED:20190320T200731Z
LAST-MODIFIED:20190320T200731Z
UID:25326-1802606400-1802611800@www.fairfieldsportsmen.com
SUMMARY:FSA Safety Meeting
DESCRIPTION:
URL:https://www.fairfieldsportsmen.com/event/fsa-safety-meeting/2027-02-14/
LOCATION:Education Building
END:VEVENT
BEGIN:VEVENT
DTSTART;TZID=America/New_York:20270314T120000
DTEND;TZID=America/New_York:20270314T133000
DTSTAMP:20260419T081821
CREATED:20190320T200731Z
LAST-MODIFIED:20190320T200731Z
UID:25656-1805025600-1805031000@www.fairfieldsportsmen.com
SUMMARY:FSA Safety Meeting
DESCRIPTION:
URL:https://www.fairfieldsportsmen.com/event/fsa-safety-meeting/2027-03-14/
LOCATION:Education Building
END:VEVENT
BEGIN:VEVENT
DTSTART;TZID=America/New_York:20270411T120000
DTEND;TZID=America/New_York:20270411T133000
DTSTAMP:20260419T081821
CREATED:20190320T200731Z
LAST-MODIFIED:20190320T200731Z
UID:26424-1807444800-1807450200@www.fairfieldsportsmen.com
SUMMARY:FSA Safety Meeting
DESCRIPTION:
URL:https://www.fairfieldsportsmen.com/event/fsa-safety-meeting/2027-04-11/
LOCATION:Education Building
END:VEVENT
END:VCALENDAR